BEGIN:VCALENDAR
VERSION:2.0
PRODID:-//The Parenting 411 - ECPv6.15.20//NONSGML v1.0//EN
CALSCALE:GREGORIAN
METHOD:PUBLISH
X-WR-CALNAME:The Parenting 411
X-ORIGINAL-URL:https://carolmuleta.com
X-WR-CALDESC:Events for The Parenting 411
REFRESH-INTERVAL;VALUE=DURATION:PT1H
X-Robots-Tag:noindex
X-PUBLISHED-TTL:PT1H
BEGIN:VTIMEZONE
TZID:America/Denver
BEGIN:DAYLIGHT
TZOFFSETFROM:-0700
TZOFFSETTO:-0600
TZNAME:MDT
DTSTART:20210314T090000
END:DAYLIGHT
BEGIN:STANDARD
TZOFFSETFROM:-0600
TZOFFSETTO:-0700
TZNAME:MST
DTSTART:20211107T080000
END:STANDARD
BEGIN:DAYLIGHT
TZOFFSETFROM:-0700
TZOFFSETTO:-0600
TZNAME:MDT
DTSTART:20220313T090000
END:DAYLIGHT
BEGIN:STANDARD
TZOFFSETFROM:-0600
TZOFFSETTO:-0700
TZNAME:MST
DTSTART:20221106T080000
END:STANDARD
BEGIN:DAYLIGHT
TZOFFSETFROM:-0700
TZOFFSETTO:-0600
TZNAME:MDT
DTSTART:20230312T090000
END:DAYLIGHT
BEGIN:STANDARD
TZOFFSETFROM:-0600
TZOFFSETTO:-0700
TZNAME:MST
DTSTART:20231105T080000
END:STANDARD
END:VTIMEZONE
BEGIN:VEVENT
DTSTART;TZID=America/Denver:20220919T120000
DTEND;TZID=America/Denver:20220919T233000
DTSTAMP:20260421T215258
CREATED:20231226T071940Z
LAST-MODIFIED:20231226T071940Z
UID:10000006-1663588800-1663630200@carolmuleta.com
SUMMARY:Secure the Seat With Minda Harts – September 19th
DESCRIPTION:Catch my conversation with Minda Harts\, on Secure the Seat. We’ll talk about how you can connect with your kids and plant seeds of courage in their hearts. Tune in at 12 PM ET.
URL:https://carolmuleta.com/our-event/secure-the-seat-with-minda-harts-september-19th/
CATEGORIES:Past Events
ATTACH;FMTTYPE=image/webp:https://carolmuleta.com/wp-content/uploads/2023/12/3609113B-3E13-4969-979E-E2B9B02D152D_1_102_o-.webp
END:VEVENT
END:VCALENDAR