BEGIN:VCALENDAR
VERSION:2.0
PRODID:-//The Parenting 411 - ECPv6.15.20//NONSGML v1.0//EN
CALSCALE:GREGORIAN
METHOD:PUBLISH
X-ORIGINAL-URL:https://carolmuleta.com
X-WR-CALDESC:Events for The Parenting 411
REFRESH-INTERVAL;VALUE=DURATION:PT1H
X-Robots-Tag:noindex
X-PUBLISHED-TTL:PT1H
BEGIN:VTIMEZONE
TZID:America/Denver
BEGIN:DAYLIGHT
TZOFFSETFROM:-0700
TZOFFSETTO:-0600
TZNAME:MDT
DTSTART:20210314T090000
END:DAYLIGHT
BEGIN:STANDARD
TZOFFSETFROM:-0600
TZOFFSETTO:-0700
TZNAME:MST
DTSTART:20211107T080000
END:STANDARD
BEGIN:DAYLIGHT
TZOFFSETFROM:-0700
TZOFFSETTO:-0600
TZNAME:MDT
DTSTART:20220313T090000
END:DAYLIGHT
BEGIN:STANDARD
TZOFFSETFROM:-0600
TZOFFSETTO:-0700
TZNAME:MST
DTSTART:20221106T080000
END:STANDARD
BEGIN:DAYLIGHT
TZOFFSETFROM:-0700
TZOFFSETTO:-0600
TZNAME:MDT
DTSTART:20230312T090000
END:DAYLIGHT
BEGIN:STANDARD
TZOFFSETFROM:-0600
TZOFFSETTO:-0700
TZNAME:MST
DTSTART:20231105T080000
END:STANDARD
END:VTIMEZONE
BEGIN:VEVENT
DTSTART;TZID=America/Denver:20220612T120000
DTEND;TZID=America/Denver:20220612T170000
DTSTAMP:20260422T085949
CREATED:20231226T061102Z
LAST-MODIFIED:20231226T061102Z
UID:10000005-1655035200-1655053200@carolmuleta.com
SUMMARY:Momup Workshop
DESCRIPTION:I’m counting down the days until my December workshop\, Raising Resilience\, with MomUp! \nAccording to a study conducted at the Center of the Developing Child at Harvard University\, we can strengthen the\nfundamental capabilities of resilience at any age. \nI will share my 5-C Parenting Model\, including strategies for guiding children to develop the self-discipline and\nresilience they need to conquer crisis
URL:https://carolmuleta.com/our-event/momup-workshop/
CATEGORIES:Past Events
ATTACH;FMTTYPE=image/webp:https://carolmuleta.com/wp-content/uploads/2023/12/689DB616-A4E4-43D8-880E-2D576EFE9472-1030x103-1.webp
END:VEVENT
END:VCALENDAR