BEGIN:VCALENDAR
VERSION:2.0
PRODID:-//The Parenting 411 - ECPv6.15.20//NONSGML v1.0//EN
CALSCALE:GREGORIAN
METHOD:PUBLISH
X-ORIGINAL-URL:https://carolmuleta.com
X-WR-CALDESC:Events for The Parenting 411
REFRESH-INTERVAL;VALUE=DURATION:PT1H
X-Robots-Tag:noindex
X-PUBLISHED-TTL:PT1H
BEGIN:VTIMEZONE
TZID:America/Denver
BEGIN:DAYLIGHT
TZOFFSETFROM:-0700
TZOFFSETTO:-0600
TZNAME:MDT
DTSTART:20220313T090000
END:DAYLIGHT
BEGIN:STANDARD
TZOFFSETFROM:-0600
TZOFFSETTO:-0700
TZNAME:MST
DTSTART:20221106T080000
END:STANDARD
BEGIN:DAYLIGHT
TZOFFSETFROM:-0700
TZOFFSETTO:-0600
TZNAME:MDT
DTSTART:20230312T090000
END:DAYLIGHT
BEGIN:STANDARD
TZOFFSETFROM:-0600
TZOFFSETTO:-0700
TZNAME:MST
DTSTART:20231105T080000
END:STANDARD
BEGIN:DAYLIGHT
TZOFFSETFROM:-0700
TZOFFSETTO:-0600
TZNAME:MDT
DTSTART:20240310T090000
END:DAYLIGHT
BEGIN:STANDARD
TZOFFSETFROM:-0600
TZOFFSETTO:-0700
TZNAME:MST
DTSTART:20241103T080000
END:STANDARD
END:VTIMEZONE
BEGIN:VEVENT
DTSTART;VALUE=DATE:20230901
DTEND;VALUE=DATE:20231001
DTSTAMP:20260421T074952
CREATED:20231226T055927Z
LAST-MODIFIED:20231227T151524Z
UID:10000002-1693526400-1696118399@carolmuleta.com
SUMMARY:I’m Speaking Again at the U.s. Nanny Association Conference!
DESCRIPTION:Thrilled to be invited back as a keynote speaker for the U.S. Nanny Association Conference! Join me for an empowering talk on parent-child communication in ‘Chaos to Connection.’ Let’s make a positive impact together at this virtual event running throughout September. Register now at www.usnanny.org/conference and let’s create lasting connections! \nMeeting Link\nhttps://www.usnanny.org/conference/
URL:https://carolmuleta.com/our-event/im-speaking-again-at-the-u-s-nanny-association-conference/
CATEGORIES:Conferences,Past Events
ATTACH;FMTTYPE=image/webp:https://carolmuleta.com/wp-content/uploads/2023/12/IMG_1337.webp
END:VEVENT
BEGIN:VEVENT
DTSTART;TZID=America/Denver:20230926T000000
DTEND;TZID=America/Denver:20230926T233000
DTSTAMP:20260421T074952
CREATED:20231226T072153Z
LAST-MODIFIED:20231227T151902Z
UID:10000007-1695686400-1695771000@carolmuleta.com
SUMMARY:The Resilient Mama Movement – September 26th
DESCRIPTION:Hey there\, Mamas! Are you out of energy most of the time?\nTap into The Resilient Mama Movement and learn how to manage your energy so you can show up in overflow for\nyour children. I am speaking at this FREE event and I know this transformative experience will bring new clarity and\npurpose to your motherhood adventure. It’s coming your way beginning September 26th. Click here to join me! \nMeeting Link\nhttps://resilientmamamovement.com/carolmuleta
URL:https://carolmuleta.com/our-event/the-resilient-mama-movement-september-26th/
CATEGORIES:Past Events
ATTACH;FMTTYPE=image/webp:https://carolmuleta.com/wp-content/uploads/2023/12/4-1030x1030-1.webp
END:VEVENT
END:VCALENDAR